BEGIN:VCALENDAR
VERSION:2.0
PRODID:-//Sabre//Sabre VObject 4.5.8//EN
CALSCALE:GREGORIAN
BEGIN:VEVENT
UID:sabre-vobject-3ebdef6d-ad2f-4601-ab8a-e7c0d33f7c82
DTSTAMP:20260425T140014Z
SUMMARY:Brick Builders
DESCRIPTION:Challenge your building skills\n
X-ALT-DESC:FMTTYPE=text/html:<!DOCTYPE HTML PUBLIC "-//W3C//DTD HTML 3.2//E
 N"><HTML><p>Challenge your building skills</p>\n</HTML>
CREATED;TZID=Europe/Oslo:20250918T124406
URL;VALUE=URI:https://wiesbaden.armymwr.com/calendar/event
DTSTART;TZID=Europe/Oslo:20250105T140000
DTEND;TZID=Europe/Oslo:20250105T150000
SEQUENCE:0
END:VEVENT
BEGIN:VEVENT
UID:sabre-vobject-03c87774-a583-4b04-8475-776469a2c762
DTSTAMP:20260425T140014Z
SUMMARY:Brick Builders
DESCRIPTION:Challenge your building skills\n
X-ALT-DESC:FMTTYPE=text/html:<!DOCTYPE HTML PUBLIC "-//W3C//DTD HTML 3.2//E
 N"><HTML><p>Challenge your building skills</p>\n</HTML>
CREATED;TZID=Europe/Oslo:20250918T124406
URL;VALUE=URI:https://wiesbaden.armymwr.com/calendar/event
DTSTART;TZID=Europe/Oslo:20250929T160000
DTEND;TZID=Europe/Oslo:20250929T170000
SEQUENCE:1
END:VEVENT
END:VCALENDAR
