BEGIN:VCALENDAR
VERSION:2.0
PRODID:-//Sabre//Sabre VObject 4.5.8//EN
CALSCALE:GREGORIAN
BEGIN:VEVENT
UID:sabre-vobject-d9dba7ab-2055-4862-bb44-5f078ccf9ef7
DTSTAMP:20260420T000030Z
SUMMARY:Summer Reading Program
DESCRIPTION:Fun for all ages\n
X-ALT-DESC:FMTTYPE=text/html:<!DOCTYPE HTML PUBLIC "-//W3C//DTD HTML 3.2//E
 N"><HTML><p>Fun for all ages</p>\n</HTML>
CREATED;TZID=Europe/Oslo:20170913T134559
URL;VALUE=URI:https://wiesbaden.armymwr.com/calendar/event
DTSTART;TZID=Europe/Oslo:20170810T093000
DTEND;TZID=Europe/Oslo:20170810T103000
SEQUENCE:0
END:VEVENT
END:VCALENDAR
