BEGIN:VCALENDAR
VERSION:2.0
PRODID:-//Sabre//Sabre VObject 4.5.8//EN
CALSCALE:GREGORIAN
BEGIN:VEVENT
UID:sabre-vobject-bb322ae8-3949-4d6f-b10c-6c154d4c473b
DTSTAMP:20260419T133925Z
SUMMARY:EFMP Bowling
DESCRIPTION:Exceptional Family Member Program Bowling\n
X-ALT-DESC:FMTTYPE=text/html:<!DOCTYPE HTML PUBLIC "-//W3C//DTD HTML 3.2//E
 N"><HTML><p>Exceptional Family Member Program Bowling</p>\n</HTML>
CREATED;TZID=Europe/Oslo:20170913T134559
URL;VALUE=URI:https://wiesbaden.armymwr.com/calendar/event
DTSTART;TZID=Europe/Oslo:20170809T173000
DTEND;TZID=Europe/Oslo:20170809T193000
SEQUENCE:0
END:VEVENT
END:VCALENDAR
