BEGIN:VCALENDAR
VERSION:2.0
PRODID:-//Sabre//Sabre VObject 4.5.8//EN
CALSCALE:GREGORIAN
BEGIN:VEVENT
UID:sabre-vobject-ac76ff2e-f063-443a-8cf2-1689b6a0fabf
DTSTAMP:20260419T165852Z
SUMMARY:Monthly Movie Matinee
DESCRIPTION:Enjoy a Saturday matinee
X-ALT-DESC:FMTTYPE=text/html:<!DOCTYPE HTML PUBLIC "-//W3C//DTD HTML 3.2//E
 N"><HTML>Enjoy a Saturday matinee</HTML>
CREATED;TZID=Europe/Oslo:20170913T134559
URL;VALUE=URI:https://wiesbaden.armymwr.com/calendar/event
DTSTART;TZID=Europe/Oslo:20170805T100000
DTEND;TZID=Europe/Oslo:20170805T120000
SEQUENCE:0
END:VEVENT
END:VCALENDAR
