BEGIN:VCALENDAR
VERSION:2.0
PRODID:-//Sabre//Sabre VObject 4.5.8//EN
CALSCALE:GREGORIAN
BEGIN:VEVENT
UID:sabre-vobject-7b90ceee-6294-4e43-bfd6-aecd125111c5
DTSTAMP:20260420T101020Z
SUMMARY:Community Scramble
DESCRIPTION:Enjoy this bimonthly\, nine-hole scramble
X-ALT-DESC:FMTTYPE=text/html:<!DOCTYPE HTML PUBLIC "-//W3C//DTD HTML 3.2//E
 N"><HTML>Enjoy this bimonthly\, nine-hole scramble</HTML>
CREATED;TZID=Europe/Oslo:20170913T134559
URL;VALUE=URI:https://wiesbaden.armymwr.com/calendar/event
DTSTART;TZID=Europe/Oslo:20170731T183000
DTEND;TZID=Europe/Oslo:20170731T210000
SEQUENCE:0
END:VEVENT
END:VCALENDAR
