BEGIN:VCALENDAR
VERSION:2.0
PRODID:-//Sabre//Sabre VObject 4.5.8//EN
CALSCALE:GREGORIAN
BEGIN:VEVENT
UID:sabre-vobject-9fe5fba7-33f4-481f-8134-fd0a7a233ae4
DTSTAMP:20260419T200831Z
SUMMARY:Whitewater Rafting in Interlaken\, Switzerland
DESCRIPTION:Enjoy an outdoor adventure\n
X-ALT-DESC:FMTTYPE=text/html:<!DOCTYPE HTML PUBLIC "-//W3C//DTD HTML 3.2//E
 N"><HTML><p>Enjoy an outdoor adventure</p>\n</HTML>
CREATED;TZID=Europe/Oslo:20170913T134559
URL;VALUE=URI:https://wiesbaden.armymwr.com/calendar/event
DTSTART;TZID=Europe/Oslo:20170729T000000
DTEND;TZID=Europe/Oslo:20170730T235959
SEQUENCE:0
END:VEVENT
END:VCALENDAR
