BEGIN:VCALENDAR
VERSION:2.0
PRODID:-//Sabre//Sabre VObject 4.5.8//EN
CALSCALE:GREGORIAN
BEGIN:VEVENT
UID:sabre-vobject-2e14b28e-eaef-4565-8a8c-55dac0cafdd1
DTSTAMP:20260420T082507Z
SUMMARY:FRG Leader Training
DESCRIPTION:Family Readiness Group Training
X-ALT-DESC:FMTTYPE=text/html:<!DOCTYPE HTML PUBLIC "-//W3C//DTD HTML 3.2//E
 N"><HTML>Family Readiness Group Training</HTML>
CREATED;TZID=Europe/Oslo:20170913T134559
URL;VALUE=URI:https://wiesbaden.armymwr.com/calendar/event
DTSTART;TZID=Europe/Oslo:20170726T090000
DTEND;TZID=Europe/Oslo:20170726T143000
SEQUENCE:0
END:VEVENT
END:VCALENDAR
