BEGIN:VCALENDAR
VERSION:2.0
PRODID:-//Sabre//Sabre VObject 4.5.8//EN
CALSCALE:GREGORIAN
BEGIN:VEVENT
UID:sabre-vobject-136ac565-7f20-4639-9e26-4805a2eed99a
DTSTAMP:20260420T101014Z
SUMMARY:Sport Shooting Knowledge Course
DESCRIPTION:Earn a Certificate of Completion
X-ALT-DESC:FMTTYPE=text/html:<!DOCTYPE HTML PUBLIC "-//W3C//DTD HTML 3.2//E
 N"><HTML>Earn a Certificate of Completion</HTML>
CREATED;TZID=Europe/Oslo:20170913T134559
URL;VALUE=URI:https://wiesbaden.armymwr.com/calendar/event
DTSTART;TZID=Europe/Oslo:20170723T180000
DTEND;TZID=Europe/Oslo:20170723T220000
SEQUENCE:0
END:VEVENT
END:VCALENDAR
