BEGIN:VCALENDAR
VERSION:2.0
PRODID:-//Sabre//Sabre VObject 4.5.8//EN
CALSCALE:GREGORIAN
BEGIN:VEVENT
UID:sabre-vobject-4abd071f-15ff-4a9d-9671-48c25f063f8f
DTSTAMP:20260420T101013Z
SUMMARY:Spades Tournament
DESCRIPTION:Calling all card sharks
X-ALT-DESC:FMTTYPE=text/html:<!DOCTYPE HTML PUBLIC "-//W3C//DTD HTML 3.2//E
 N"><HTML>Calling all card sharks</HTML>
CREATED;TZID=Europe/Oslo:20170913T134559
URL;VALUE=URI:https://wiesbaden.armymwr.com/calendar/event
DTSTART;TZID=Europe/Oslo:20170722T180000
DTEND;TZID=Europe/Oslo:20170722T203000
SEQUENCE:0
END:VEVENT
END:VCALENDAR
