BEGIN:VCALENDAR
VERSION:2.0
PRODID:-//Sabre//Sabre VObject 4.5.8//EN
CALSCALE:GREGORIAN
BEGIN:VEVENT
UID:sabre-vobject-2e3e5d18-c260-40ef-a209-50eed769e38b
DTSTAMP:20260420T100929Z
SUMMARY:Build Wealth
DESCRIPTION:Is your money growing?
X-ALT-DESC:FMTTYPE=text/html:<!DOCTYPE HTML PUBLIC "-//W3C//DTD HTML 3.2//E
 N"><HTML>Is your money growing?</HTML>
CREATED;TZID=Europe/Oslo:20170913T134559
URL;VALUE=URI:https://wiesbaden.armymwr.com/calendar/event
DTSTART;TZID=Europe/Oslo:20170718T100000
DTEND;TZID=Europe/Oslo:20170718T110000
SEQUENCE:0
END:VEVENT
END:VCALENDAR
