BEGIN:VCALENDAR
VERSION:2.0
PRODID:-//Sabre//Sabre VObject 4.5.8//EN
CALSCALE:GREGORIAN
BEGIN:VEVENT
UID:sabre-vobject-9e6644cb-6c89-46bd-b628-4e60c7377b42
DTSTAMP:20260420T101017Z
SUMMARY:Pool Tournament
DESCRIPTION:Calling all eight-ball players\n
X-ALT-DESC:FMTTYPE=text/html:<!DOCTYPE HTML PUBLIC "-//W3C//DTD HTML 3.2//E
 N"><HTML><p>Calling all eight-ball players</p>\n</HTML>
CREATED;TZID=Europe/Oslo:20170913T134559
URL;VALUE=URI:https://wiesbaden.armymwr.com/calendar/event
DTSTART;TZID=Europe/Oslo:20170713T180000
DTEND;TZID=Europe/Oslo:20170713T203000
SEQUENCE:0
END:VEVENT
END:VCALENDAR
