BEGIN:VCALENDAR
VERSION:2.0
PRODID:-//Sabre//Sabre VObject 4.5.8//EN
CALSCALE:GREGORIAN
BEGIN:VEVENT
UID:sabre-vobject-ac4cb485-6314-4c38-a680-ca8f91b86aa2
DTSTAMP:20260420T101019Z
SUMMARY:Resume Seminar
DESCRIPTION:Create a unique resume
X-ALT-DESC:FMTTYPE=text/html:<!DOCTYPE HTML PUBLIC "-//W3C//DTD HTML 3.2//E
 N"><HTML>Create a unique resume</HTML>
CREATED;TZID=Europe/Oslo:20170913T134558
URL;VALUE=URI:https://wiesbaden.armymwr.com/calendar/event
DTSTART;TZID=Europe/Oslo:20170712T123000
DTEND;TZID=Europe/Oslo:20170712T140000
SEQUENCE:0
END:VEVENT
END:VCALENDAR
