BEGIN:VCALENDAR
VERSION:2.0
PRODID:-//Sabre//Sabre VObject 4.5.8//EN
CALSCALE:GREGORIAN
BEGIN:VEVENT
UID:sabre-vobject-c71c750b-4f05-4557-a5d4-6a27ee2801ab
DTSTAMP:20260420T101012Z
SUMMARY:Saving\, Investing and Building Wealth
DESCRIPTION:Learn about financial management
X-ALT-DESC:FMTTYPE=text/html:<!DOCTYPE HTML PUBLIC "-//W3C//DTD HTML 3.2//E
 N"><HTML>Learn about financial management</HTML>
CREATED;TZID=Europe/Oslo:20170913T134558
URL;VALUE=URI:https://wiesbaden.armymwr.com/calendar/event
DTSTART;TZID=Europe/Oslo:20170711T100000
DTEND;TZID=Europe/Oslo:20170711T113000
SEQUENCE:0
END:VEVENT
END:VCALENDAR
