BEGIN:VCALENDAR
VERSION:2.0
PRODID:-//Sabre//Sabre VObject 4.5.8//EN
CALSCALE:GREGORIAN
BEGIN:VEVENT
UID:sabre-vobject-4e351a87-0806-4a17-a08e-fd500b4b6a00
DTSTAMP:20260420T131759Z
SUMMARY:Monthly Movie Matinee
DESCRIPTION:Enjoy a Saturday matinee
X-ALT-DESC:FMTTYPE=text/html:<!DOCTYPE HTML PUBLIC "-//W3C//DTD HTML 3.2//E
 N"><HTML>Enjoy a Saturday matinee</HTML>
CREATED;TZID=Europe/Oslo:20170913T134558
URL;VALUE=URI:https://wiesbaden.armymwr.com/calendar/event
DTSTART;TZID=Europe/Oslo:20170701T100000
DTEND;TZID=Europe/Oslo:20170701T120000
SEQUENCE:0
END:VEVENT
END:VCALENDAR
