BEGIN:VCALENDAR
VERSION:2.0
PRODID:-//Sabre//Sabre VObject 4.5.8//EN
CALSCALE:GREGORIAN
BEGIN:VEVENT
UID:sabre-vobject-f274ba3c-adaa-4e63-abb4-c31fd75b1db5
DTSTAMP:20260420T200738Z
SUMMARY:Summer Reading Program Registration
DESCRIPTION:Fun for all ages\n
X-ALT-DESC:FMTTYPE=text/html:<!DOCTYPE HTML PUBLIC "-//W3C//DTD HTML 3.2//E
 N"><HTML><p>Fun for all ages</p>\n</HTML>
CREATED;TZID=Europe/Oslo:20170913T134558
URL;VALUE=URI:https://wiesbaden.armymwr.com/calendar/event
DTSTART;TZID=Europe/Oslo:20170630T093000
DTEND;TZID=Europe/Oslo:20170630T103000
SEQUENCE:0
END:VEVENT
END:VCALENDAR
