BEGIN:VCALENDAR
VERSION:2.0
PRODID:-//Sabre//Sabre VObject 4.5.8//EN
CALSCALE:GREGORIAN
BEGIN:VEVENT
UID:sabre-vobject-50008fb0-ec3b-4f3f-8efb-08cce978abae
DTSTAMP:20260420T231646Z
SUMMARY:Community Scramble
DESCRIPTION:Enjoy this bimonthly\, nine-hole scramble
X-ALT-DESC:FMTTYPE=text/html:<!DOCTYPE HTML PUBLIC "-//W3C//DTD HTML 3.2//E
 N"><HTML>Enjoy this bimonthly\, nine-hole scramble</HTML>
CREATED;TZID=Europe/Oslo:20170913T134558
URL;VALUE=URI:https://wiesbaden.armymwr.com/calendar/event
DTSTART;TZID=Europe/Oslo:20170626T183000
DTEND;TZID=Europe/Oslo:20170626T210000
SEQUENCE:0
END:VEVENT
END:VCALENDAR
