BEGIN:VCALENDAR
VERSION:2.0
PRODID:-//Sabre//Sabre VObject 4.5.8//EN
CALSCALE:GREGORIAN
BEGIN:VEVENT
UID:sabre-vobject-85c210a4-fc18-4eca-a2fe-0541202d0072
DTSTAMP:20260420T131754Z
SUMMARY:Army 10 Miler Qualifier
DESCRIPTION:Represent U.S. Forces Europe
X-ALT-DESC:FMTTYPE=text/html:<!DOCTYPE HTML PUBLIC "-//W3C//DTD HTML 3.2//E
 N"><HTML>Represent U.S. Forces Europe</HTML>
CREATED;TZID=Europe/Oslo:20170913T134558
URL;VALUE=URI:https://wiesbaden.armymwr.com/calendar/event
DTSTART;TZID=Europe/Oslo:20170624T080000
DTEND;TZID=Europe/Oslo:20170624T110000
SEQUENCE:0
END:VEVENT
END:VCALENDAR
