BEGIN:VCALENDAR
VERSION:2.0
PRODID:-//Sabre//Sabre VObject 4.5.8//EN
CALSCALE:GREGORIAN
BEGIN:VEVENT
UID:sabre-vobject-29b9022e-92d6-4b4f-b915-3d5d5a79454a
DTSTAMP:20260420T131754Z
SUMMARY:German-American Friendship Tournament
DESCRIPTION:Make new friends and compete
X-ALT-DESC:FMTTYPE=text/html:<!DOCTYPE HTML PUBLIC "-//W3C//DTD HTML 3.2//E
 N"><HTML>Make new friends and compete</HTML>
CREATED;TZID=Europe/Oslo:20170913T134558
URL;VALUE=URI:https://wiesbaden.armymwr.com/calendar/event
DTSTART;TZID=Europe/Oslo:20170624T080000
DTEND;TZID=Europe/Oslo:20170624T160000
SEQUENCE:0
END:VEVENT
END:VCALENDAR
