BEGIN:VCALENDAR
VERSION:2.0
PRODID:-//Sabre//Sabre VObject 4.5.8//EN
CALSCALE:GREGORIAN
BEGIN:VEVENT
UID:sabre-vobject-02a4f43f-5099-4367-be6d-816d44e10689
DTSTAMP:20260421T133047Z
SUMMARY:Friday Night Scramble
DESCRIPTION:Unwind at the Rheinblick
X-ALT-DESC:FMTTYPE=text/html:<!DOCTYPE HTML PUBLIC "-//W3C//DTD HTML 3.2//E
 N"><HTML>Unwind at the Rheinblick</HTML>
CREATED;TZID=Europe/Oslo:20170913T134558
URL;VALUE=URI:https://wiesbaden.armymwr.com/calendar/event
DTSTART;TZID=Europe/Oslo:20170623T183000
DTEND;TZID=Europe/Oslo:20170623T210000
SEQUENCE:0
END:VEVENT
END:VCALENDAR
