BEGIN:VCALENDAR
VERSION:2.0
PRODID:-//Sabre//Sabre VObject 4.5.8//EN
CALSCALE:GREGORIAN
BEGIN:VEVENT
UID:sabre-vobject-27917326-30e6-47fd-bce5-8d3b2e325f19
DTSTAMP:20260420T231646Z
SUMMARY:Dominoes
DESCRIPTION:Show off your skills
X-ALT-DESC:FMTTYPE=text/html:<!DOCTYPE HTML PUBLIC "-//W3C//DTD HTML 3.2//E
 N"><HTML>Show off your skills</HTML>
CREATED;TZID=Europe/Oslo:20170913T134558
URL;VALUE=URI:https://wiesbaden.armymwr.com/calendar/event
DTSTART;TZID=Europe/Oslo:20170620T180000
DTEND;TZID=Europe/Oslo:20170620T203000
SEQUENCE:0
END:VEVENT
END:VCALENDAR
