BEGIN:VCALENDAR
VERSION:2.0
PRODID:-//Sabre//Sabre VObject 4.5.8//EN
CALSCALE:GREGORIAN
BEGIN:VEVENT
UID:sabre-vobject-3abee8c4-4058-4be5-acdc-192b87c9ae1f
DTSTAMP:20260419T133929Z
SUMMARY:Fall Sports Registration
DESCRIPTION:For ages 3-15\n
X-ALT-DESC:FMTTYPE=text/html:<!DOCTYPE HTML PUBLIC "-//W3C//DTD HTML 3.2//E
 N"><HTML><p>For ages 3-15</p>\n</HTML>
CREATED;TZID=Europe/Oslo:20170913T134558
URL;VALUE=URI:https://wiesbaden.armymwr.com/calendar/event
DTSTART;TZID=Europe/Oslo:20170609T000000
DTEND;TZID=Europe/Oslo:20170609T235959
SEQUENCE:0
END:VEVENT
END:VCALENDAR
