BEGIN:VCALENDAR
VERSION:2.0
PRODID:-//Sabre//Sabre VObject 4.5.8//EN
CALSCALE:GREGORIAN
BEGIN:VEVENT
UID:sabre-vobject-22b399a1-f666-46d3-bd17-7e9de3d48b65
DTSTAMP:20260421T201152Z
SUMMARY:Youth Rock Climbing
DESCRIPTION:Build skills on a rock climbing adventure!
X-ALT-DESC:FMTTYPE=text/html:<!DOCTYPE HTML PUBLIC "-//W3C//DTD HTML 3.2//E
 N"><HTML>Build skills on a rock climbing adventure!</HTML>
CREATED;TZID=Europe/Oslo:20170913T134558
URL;VALUE=URI:https://wiesbaden.armymwr.com/calendar/event
DTSTART;TZID=Europe/Oslo:20170607T143000
DTEND;TZID=Europe/Oslo:20170607T170000
SEQUENCE:0
END:VEVENT
END:VCALENDAR
