BEGIN:VCALENDAR
VERSION:2.0
PRODID:-//Sabre//Sabre VObject 4.5.8//EN
CALSCALE:GREGORIAN
BEGIN:VEVENT
UID:sabre-vobject-a6b0a8f2-1588-4189-a8f3-97989799a780
DTSTAMP:20260419T171045Z
SUMMARY:Fall Sports Registration
DESCRIPTION:For ages 3-15\n
X-ALT-DESC:FMTTYPE=text/html:<!DOCTYPE HTML PUBLIC "-//W3C//DTD HTML 3.2//E
 N"><HTML><p>For ages 3-15</p>\n</HTML>
CREATED;TZID=Europe/Oslo:20170913T134558
URL;VALUE=URI:https://wiesbaden.armymwr.com/calendar/event
DTSTART;TZID=Europe/Oslo:20170607T000000
DTEND;TZID=Europe/Oslo:20170607T235959
SEQUENCE:0
END:VEVENT
END:VCALENDAR
