BEGIN:VCALENDAR
VERSION:2.0
PRODID:-//Sabre//Sabre VObject 4.5.8//EN
CALSCALE:GREGORIAN
BEGIN:VEVENT
UID:sabre-vobject-7eb7edf0-e152-485b-8fd5-649ef71ba5c6
DTSTAMP:20260419T133926Z
SUMMARY:Fall Sports Registration
DESCRIPTION:For ages 3-15
X-ALT-DESC:FMTTYPE=text/html:<!DOCTYPE HTML PUBLIC "-//W3C//DTD HTML 3.2//E
 N"><HTML>For ages 3-15</HTML>
CREATED;TZID=Europe/Oslo:20170913T134558
URL;VALUE=URI:https://wiesbaden.armymwr.com/calendar/event
DTSTART;TZID=Europe/Oslo:20170605T130000
DTEND;TZID=Europe/Oslo:20170605T130000
SEQUENCE:0
END:VEVENT
END:VCALENDAR
