BEGIN:VCALENDAR
VERSION:2.0
PRODID:-//Sabre//Sabre VObject 4.5.8//EN
CALSCALE:GREGORIAN
BEGIN:VEVENT
UID:sabre-vobject-e60296d9-cc9c-4d78-9bc2-2b9030b974fb
DTSTAMP:20260421T201154Z
SUMMARY:Recreational Shooting
DESCRIPTION:Test your marksmanship on a day at the range
X-ALT-DESC:FMTTYPE=text/html:<!DOCTYPE HTML PUBLIC "-//W3C//DTD HTML 3.2//E
 N"><HTML>Test your marksmanship on a day at the range</HTML>
CREATED;TZID=Europe/Oslo:20170913T134558
URL;VALUE=URI:https://wiesbaden.armymwr.com/calendar/event
DTSTART;TZID=Europe/Oslo:20170603T100000
DTEND;TZID=Europe/Oslo:20170603T150000
SEQUENCE:0
END:VEVENT
END:VCALENDAR
