BEGIN:VCALENDAR
VERSION:2.0
PRODID:-//Sabre//Sabre VObject 4.5.8//EN
CALSCALE:GREGORIAN
BEGIN:VEVENT
UID:sabre-vobject-6e282c1c-0899-4ca7-bf4f-840f9a6058d3
DTSTAMP:20260422T123523Z
SUMMARY:USAJobs Class
DESCRIPTION:Get help navigating the federal jobs website
X-ALT-DESC:FMTTYPE=text/html:<!DOCTYPE HTML PUBLIC "-//W3C//DTD HTML 3.2//E
 N"><HTML>Get help navigating the federal jobs website</HTML>
CREATED;TZID=Europe/Oslo:20170913T134558
URL;VALUE=URI:https://wiesbaden.armymwr.com/calendar/event
DTSTART;TZID=Europe/Oslo:20170531T123000
DTEND;TZID=Europe/Oslo:20170531T140000
SEQUENCE:0
END:VEVENT
END:VCALENDAR
