BEGIN:VCALENDAR
VERSION:2.0
PRODID:-//Sabre//Sabre VObject 4.5.8//EN
CALSCALE:GREGORIAN
BEGIN:VEVENT
UID:sabre-vobject-3d85ba27-4522-4563-8fa2-67a45b6777f6
DTSTAMP:20260421T203248Z
SUMMARY:Army Family Team Building Training
DESCRIPTION:Become an Army Family expert
X-ALT-DESC:FMTTYPE=text/html:<!DOCTYPE HTML PUBLIC "-//W3C//DTD HTML 3.2//E
 N"><HTML>Become an Army Family expert</HTML>
CREATED;TZID=Europe/Oslo:20170913T134558
URL;VALUE=URI:https://wiesbaden.armymwr.com/calendar/event
DTSTART;TZID=Europe/Oslo:20170530T130000
DTEND;TZID=Europe/Oslo:20170530T130000
SEQUENCE:0
END:VEVENT
END:VCALENDAR
