BEGIN:VCALENDAR
VERSION:2.0
PRODID:-//Sabre//Sabre VObject 4.5.8//EN
CALSCALE:GREGORIAN
BEGIN:VEVENT
UID:sabre-vobject-107ae01e-12bd-49a5-a13d-f0b6d9a8d0e6
DTSTAMP:20260422T045028Z
SUMMARY:Cadillac Country Show
DESCRIPTION:Country and Western music
X-ALT-DESC:FMTTYPE=text/html:<!DOCTYPE HTML PUBLIC "-//W3C//DTD HTML 3.2//E
 N"><HTML>Country and Western music</HTML>
CREATED;TZID=Europe/Oslo:20170913T134558
URL;VALUE=URI:https://wiesbaden.armymwr.com/calendar/event
DTSTART;TZID=Europe/Oslo:20170526T200000
DTEND;TZID=Europe/Oslo:20170526T010000
SEQUENCE:0
END:VEVENT
END:VCALENDAR
