BEGIN:VCALENDAR
VERSION:2.0
PRODID:-//Sabre//Sabre VObject 4.5.8//EN
CALSCALE:GREGORIAN
BEGIN:VEVENT
UID:sabre-vobject-03119f3c-9dc9-4f17-9c97-5dc2297ea068
DTSTAMP:20260422T043753Z
SUMMARY:English as a Second Language
DESCRIPTION:Improve your English skills
X-ALT-DESC:FMTTYPE=text/html:<!DOCTYPE HTML PUBLIC "-//W3C//DTD HTML 3.2//E
 N"><HTML>Improve your English skills</HTML>
CREATED;TZID=Europe/Oslo:20170913T134558
URL;VALUE=URI:https://wiesbaden.armymwr.com/calendar/event
DTSTART;TZID=Europe/Oslo:20170523T100000
DTEND;TZID=Europe/Oslo:20170523T113000
SEQUENCE:0
END:VEVENT
END:VCALENDAR
