BEGIN:VCALENDAR
VERSION:2.0
PRODID:-//Sabre//Sabre VObject 4.5.8//EN
CALSCALE:GREGORIAN
BEGIN:VEVENT
UID:sabre-vobject-5074b78d-4748-440c-a894-457cf50e177f
DTSTAMP:20260422T045030Z
SUMMARY:Tell Me A Story: Courage
DESCRIPTION:Courage comes in all shapes and sizes
X-ALT-DESC:FMTTYPE=text/html:<!DOCTYPE HTML PUBLIC "-//W3C//DTD HTML 3.2//E
 N"><HTML>Courage comes in all shapes and sizes</HTML>
CREATED;TZID=Europe/Oslo:20170913T134558
URL;VALUE=URI:https://wiesbaden.armymwr.com/calendar/event
DTSTART;TZID=Europe/Oslo:20170520T130000
DTEND;TZID=Europe/Oslo:20170520T150000
SEQUENCE:0
END:VEVENT
END:VCALENDAR
