BEGIN:VCALENDAR
VERSION:2.0
PRODID:-//Sabre//Sabre VObject 4.5.8//EN
CALSCALE:GREGORIAN
BEGIN:VEVENT
UID:sabre-vobject-8dd334fb-86b8-4e91-9e4e-38ccafcb8174
DTSTAMP:20260422T184819Z
SUMMARY:Volunteer Recognition Ceremony
DESCRIPTION:Recognizing the garrison's dedicated volunteers
X-ALT-DESC:FMTTYPE=text/html:<!DOCTYPE HTML PUBLIC "-//W3C//DTD HTML 3.2//E
 N"><HTML>Recognizing the garrison's dedicated volunteers</HTML>
CREATED;TZID=Europe/Oslo:20170913T134558
URL;VALUE=URI:https://wiesbaden.armymwr.com/calendar/event
DTSTART;TZID=Europe/Oslo:20170519T180000
DTEND;TZID=Europe/Oslo:20170519T200000
SEQUENCE:0
END:VEVENT
END:VCALENDAR
