BEGIN:VCALENDAR
VERSION:2.0
PRODID:-//Sabre//Sabre VObject 4.5.8//EN
CALSCALE:GREGORIAN
BEGIN:VEVENT
UID:sabre-vobject-100c1b9a-e3d2-4eef-b115-189bfe5ff893
DTSTAMP:20260422T061733Z
SUMMARY:Board Game Night
DESCRIPTION:Make new friends while playing games
X-ALT-DESC:FMTTYPE=text/html:<!DOCTYPE HTML PUBLIC "-//W3C//DTD HTML 3.2//E
 N"><HTML>Make new friends while playing games</HTML>
CREATED;TZID=Europe/Oslo:20170913T134558
URL;VALUE=URI:https://wiesbaden.armymwr.com/calendar/event
DTSTART;TZID=Europe/Oslo:20170516T180000
DTEND;TZID=Europe/Oslo:20170516T203000
SEQUENCE:0
END:VEVENT
END:VCALENDAR
