BEGIN:VCALENDAR
VERSION:2.0
PRODID:-//Sabre//Sabre VObject 4.5.8//EN
CALSCALE:GREGORIAN
BEGIN:VEVENT
UID:sabre-vobject-e79360fb-7716-4b13-b16c-c462dcfc7b58
DTSTAMP:20260422T155701Z
SUMMARY:Frankie Ballard
DESCRIPTION:Armed Forces Entertainment presents\n
X-ALT-DESC:FMTTYPE=text/html:<!DOCTYPE HTML PUBLIC "-//W3C//DTD HTML 3.2//E
 N"><HTML><p>Armed Forces Entertainment presents</p>\n</HTML>
CREATED;TZID=Europe/Oslo:20170913T134558
URL;VALUE=URI:https://wiesbaden.armymwr.com/calendar/event
DTSTART;TZID=Europe/Oslo:20170513T200000
DTEND;TZID=Europe/Oslo:20170513T213000
SEQUENCE:0
END:VEVENT
END:VCALENDAR
