BEGIN:VCALENDAR
VERSION:2.0
PRODID:-//Sabre//Sabre VObject 4.5.8//EN
CALSCALE:GREGORIAN
BEGIN:VEVENT
UID:sabre-vobject-ea4609f6-6c23-4a01-afff-abe212e46a7a
DTSTAMP:20260422T081103Z
SUMMARY:Youth Rock Climbing
DESCRIPTION:Build skills on a rock climbing adventure!
X-ALT-DESC:FMTTYPE=text/html:<!DOCTYPE HTML PUBLIC "-//W3C//DTD HTML 3.2//E
 N"><HTML>Build skills on a rock climbing adventure!</HTML>
CREATED;TZID=Europe/Oslo:20170913T134558
URL;VALUE=URI:https://wiesbaden.armymwr.com/calendar/event
DTSTART;TZID=Europe/Oslo:20170510T143000
DTEND;TZID=Europe/Oslo:20170510T170000
SEQUENCE:0
END:VEVENT
END:VCALENDAR
