BEGIN:VCALENDAR
VERSION:2.0
PRODID:-//Sabre//Sabre VObject 4.5.8//EN
CALSCALE:GREGORIAN
BEGIN:VEVENT
UID:sabre-vobject-7fb702d1-ff9e-47df-a3a4-9165c26e65a0
DTSTAMP:20260422T125104Z
SUMMARY:Canvas and Corkscrews
DESCRIPTION:Express your creativity
X-ALT-DESC:FMTTYPE=text/html:<!DOCTYPE HTML PUBLIC "-//W3C//DTD HTML 3.2//E
 N"><HTML>Express your creativity</HTML>
CREATED;TZID=Europe/Oslo:20170913T134558
URL;VALUE=URI:https://wiesbaden.armymwr.com/calendar/event
DTSTART;TZID=Europe/Oslo:20170505T180000
DTEND;TZID=Europe/Oslo:20170505T203000
SEQUENCE:0
END:VEVENT
END:VCALENDAR
