BEGIN:VCALENDAR
VERSION:2.0
PRODID:-//Sabre//Sabre VObject 4.5.8//EN
CALSCALE:GREGORIAN
BEGIN:VEVENT
UID:sabre-vobject-e720cac2-ef0c-47a7-b905-4f77ad1a35d0
DTSTAMP:20260422T215411Z
SUMMARY:Banking and Checking Accounts
DESCRIPTION:Learn how to choose financial services
X-ALT-DESC:FMTTYPE=text/html:<!DOCTYPE HTML PUBLIC "-//W3C//DTD HTML 3.2//E
 N"><HTML>Learn how to choose financial services</HTML>
CREATED;TZID=Europe/Oslo:20170913T134557
URL;VALUE=URI:https://wiesbaden.armymwr.com/calendar/event
DTSTART;TZID=Europe/Oslo:20170504T130000
DTEND;TZID=Europe/Oslo:20170504T140000
SEQUENCE:0
END:VEVENT
END:VCALENDAR
