BEGIN:VCALENDAR
VERSION:2.0
PRODID:-//Sabre//Sabre VObject 4.5.8//EN
CALSCALE:GREGORIAN
BEGIN:VEVENT
UID:sabre-vobject-7f5028a1-8d1d-4a0a-b8ff-46b0ce9c7b09
DTSTAMP:20260422T155705Z
SUMMARY:2002 BMW 530I Wagon Auction
DESCRIPTION:Looking for a car?
X-ALT-DESC:FMTTYPE=text/html:<!DOCTYPE HTML PUBLIC "-//W3C//DTD HTML 3.2//E
 N"><HTML>Looking for a car?</HTML>
CREATED;TZID=Europe/Oslo:20170913T134557
URL;VALUE=URI:https://wiesbaden.armymwr.com/calendar/event
DTSTART;TZID=Europe/Oslo:20170430T130000
DTEND;TZID=Europe/Oslo:20170430T140000
SEQUENCE:0
END:VEVENT
END:VCALENDAR
