BEGIN:VCALENDAR
VERSION:2.0
PRODID:-//Sabre//Sabre VObject 4.5.8//EN
CALSCALE:GREGORIAN
BEGIN:VEVENT
UID:sabre-vobject-2d57b672-65f6-43d3-b079-f6f9ec5635ab
DTSTAMP:20260422T215342Z
SUMMARY:Cadillac Country Show
DESCRIPTION:Country and Western music
X-ALT-DESC:FMTTYPE=text/html:<!DOCTYPE HTML PUBLIC "-//W3C//DTD HTML 3.2//E
 N"><HTML>Country and Western music</HTML>
CREATED;TZID=Europe/Oslo:20170913T134557
URL;VALUE=URI:https://wiesbaden.armymwr.com/calendar/event
DTSTART;TZID=Europe/Oslo:20170428T200000
DTEND;TZID=Europe/Oslo:20170428T010000
SEQUENCE:0
END:VEVENT
END:VCALENDAR
