BEGIN:VCALENDAR
VERSION:2.0
PRODID:-//Sabre//Sabre VObject 4.5.8//EN
CALSCALE:GREGORIAN
BEGIN:VEVENT
UID:sabre-vobject-f147c615-4646-4ab5-815e-72f5ec9f18cb
DTSTAMP:20260422T155711Z
SUMMARY:Baby Fair and Child Expo
DESCRIPTION:ACS Baby Fair
X-ALT-DESC:FMTTYPE=text/html:<!DOCTYPE HTML PUBLIC "-//W3C//DTD HTML 3.2//E
 N"><HTML>ACS Baby Fair</HTML>
CREATED;TZID=Europe/Oslo:20170913T134557
URL;VALUE=URI:https://wiesbaden.armymwr.com/calendar/event
DTSTART;TZID=Europe/Oslo:20170421T110000
DTEND;TZID=Europe/Oslo:20170421T133000
SEQUENCE:0
END:VEVENT
END:VCALENDAR
