BEGIN:VCALENDAR
VERSION:2.0
PRODID:-//Sabre//Sabre VObject 4.5.8//EN
CALSCALE:GREGORIAN
BEGIN:VEVENT
UID:sabre-vobject-2f1d044e-b688-4271-a923-3d978869c25f
DTSTAMP:20260422T215336Z
SUMMARY:Strike Out Sexual Assault Bowling Event
DESCRIPTION:Enjoy an afternoon of bowling
X-ALT-DESC:FMTTYPE=text/html:<!DOCTYPE HTML PUBLIC "-//W3C//DTD HTML 3.2//E
 N"><HTML>Enjoy an afternoon of bowling</HTML>
CREATED;TZID=Europe/Oslo:20170913T134557
URL;VALUE=URI:https://wiesbaden.armymwr.com/calendar/event
DTSTART;TZID=Europe/Oslo:20170420T120000
DTEND;TZID=Europe/Oslo:20170420T160000
SEQUENCE:0
END:VEVENT
END:VCALENDAR
