BEGIN:VCALENDAR
VERSION:2.0
PRODID:-//Sabre//Sabre VObject 4.5.8//EN
CALSCALE:GREGORIAN
BEGIN:VEVENT
UID:sabre-vobject-982c2961-7168-49f1-9475-b7eaeee8e3df
DTSTAMP:20260422T215337Z
SUMMARY:Circle of Security Parenting Tools Class
DESCRIPTION:Strengthen your relationships
X-ALT-DESC:FMTTYPE=text/html:<!DOCTYPE HTML PUBLIC "-//W3C//DTD HTML 3.2//E
 N"><HTML>Strengthen your relationships</HTML>
CREATED;TZID=Europe/Oslo:20170913T134557
URL;VALUE=URI:https://wiesbaden.armymwr.com/calendar/event
DTSTART;TZID=Europe/Oslo:20170420T100000
DTEND;TZID=Europe/Oslo:20170420T113000
SEQUENCE:0
END:VEVENT
END:VCALENDAR
