BEGIN:VCALENDAR
VERSION:2.0
PRODID:-//Sabre//Sabre VObject 4.5.8//EN
CALSCALE:GREGORIAN
BEGIN:VEVENT
UID:sabre-vobject-23b4641b-b300-4843-a4d4-79945e7433d4
DTSTAMP:20260422T215341Z
SUMMARY:Breakfast Buffets
DESCRIPTION:Start the day off right
X-ALT-DESC:FMTTYPE=text/html:<!DOCTYPE HTML PUBLIC "-//W3C//DTD HTML 3.2//E
 N"><HTML>Start the day off right</HTML>
CREATED;TZID=Europe/Oslo:20170913T134557
URL;VALUE=URI:https://wiesbaden.armymwr.com/calendar/event
DTSTART;TZID=Europe/Oslo:20170416T210000
DTEND;TZID=Europe/Oslo:20170416T130000
SEQUENCE:0
END:VEVENT
END:VCALENDAR
