BEGIN:VCALENDAR
VERSION:2.0
PRODID:-//Sabre//Sabre VObject 4.5.8//EN
CALSCALE:GREGORIAN
BEGIN:VEVENT
UID:sabre-vobject-de405eea-3827-4a4d-9ae4-cdb9f775c301
DTSTAMP:20260423T024152Z
SUMMARY:School Break Bowling Special
DESCRIPTION:Enjoy a meal and bowling
X-ALT-DESC:FMTTYPE=text/html:<!DOCTYPE HTML PUBLIC "-//W3C//DTD HTML 3.2//E
 N"><HTML>Enjoy a meal and bowling</HTML>
CREATED;TZID=Europe/Oslo:20170913T134557
URL;VALUE=URI:https://wiesbaden.armymwr.com/calendar/event
DTSTART;TZID=Europe/Oslo:20170405T110000
DTEND;TZID=Europe/Oslo:20170405T170000
SEQUENCE:0
END:VEVENT
END:VCALENDAR
