BEGIN:VCALENDAR
VERSION:2.0
PRODID:-//Sabre//Sabre VObject 4.5.8//EN
CALSCALE:GREGORIAN
BEGIN:VEVENT
UID:sabre-vobject-2bb5aedb-958b-454e-b2f7-e4d2d99de17e
DTSTAMP:20260423T024249Z
SUMMARY:School Break Bowling Special
DESCRIPTION:Enjoy a meal and bowling
X-ALT-DESC:FMTTYPE=text/html:<!DOCTYPE HTML PUBLIC "-//W3C//DTD HTML 3.2//E
 N"><HTML>Enjoy a meal and bowling</HTML>
CREATED;TZID=Europe/Oslo:20170913T134557
URL;VALUE=URI:https://wiesbaden.armymwr.com/calendar/event
DTSTART;TZID=Europe/Oslo:20170404T110000
DTEND;TZID=Europe/Oslo:20170404T170000
SEQUENCE:0
END:VEVENT
END:VCALENDAR
