BEGIN:VCALENDAR
VERSION:2.0
PRODID:-//Sabre//Sabre VObject 4.5.8//EN
CALSCALE:GREGORIAN
BEGIN:VEVENT
UID:sabre-vobject-2a174fe1-69e1-4a1c-b1f8-f4667cd45baa
DTSTAMP:20260423T024151Z
SUMMARY:Picture Framing 101
DESCRIPTION:Make the perfect frame for your image
X-ALT-DESC:FMTTYPE=text/html:<!DOCTYPE HTML PUBLIC "-//W3C//DTD HTML 3.2//E
 N"><HTML>Make the perfect frame for your image</HTML>
CREATED;TZID=Europe/Oslo:20170913T134557
URL;VALUE=URI:https://wiesbaden.armymwr.com/calendar/event
DTSTART;TZID=Europe/Oslo:20170401T110000
DTEND;TZID=Europe/Oslo:20170401T140000
SEQUENCE:0
END:VEVENT
END:VCALENDAR
