BEGIN:VCALENDAR
VERSION:2.0
PRODID:-//Sabre//Sabre VObject 4.5.8//EN
CALSCALE:GREGORIAN
BEGIN:VEVENT
UID:sabre-vobject-4f80bc29-0013-4769-9892-88e54c7de67e
DTSTAMP:20260423T091610Z
SUMMARY:FRG Leader Training
DESCRIPTION:Family Readiness Group Training
X-ALT-DESC:FMTTYPE=text/html:<!DOCTYPE HTML PUBLIC "-//W3C//DTD HTML 3.2//E
 N"><HTML>Family Readiness Group Training</HTML>
CREATED;TZID=Europe/Oslo:20170913T134557
URL;VALUE=URI:https://wiesbaden.armymwr.com/calendar/event
DTSTART;TZID=Europe/Oslo:20170329T090000
DTEND;TZID=Europe/Oslo:20170329T143000
SEQUENCE:0
END:VEVENT
END:VCALENDAR
