BEGIN:VCALENDAR
VERSION:2.0
PRODID:-//Sabre//Sabre VObject 4.5.8//EN
CALSCALE:GREGORIAN
BEGIN:VEVENT
UID:sabre-vobject-9454f1f2-e2d3-42a9-9662-73dabbc36e3a
DTSTAMP:20260423T150448Z
SUMMARY:Home Buying\, Financing and VA Home Loans
DESCRIPTION:Learn the ins and outs of buying a home
X-ALT-DESC:FMTTYPE=text/html:<!DOCTYPE HTML PUBLIC "-//W3C//DTD HTML 3.2//E
 N"><HTML>Learn the ins and outs of buying a home</HTML>
CREATED;TZID=Europe/Oslo:20170913T134557
URL;VALUE=URI:https://wiesbaden.armymwr.com/calendar/event
DTSTART;TZID=Europe/Oslo:20170322T120000
DTEND;TZID=Europe/Oslo:20170322T150000
SEQUENCE:0
END:VEVENT
END:VCALENDAR
