BEGIN:VCALENDAR
VERSION:2.0
PRODID:-//Sabre//Sabre VObject 4.5.8//EN
CALSCALE:GREGORIAN
BEGIN:VEVENT
UID:sabre-vobject-48bd2170-f822-4675-98be-1940a7f2eaaa
DTSTAMP:20260423T150444Z
SUMMARY:Poker Night
DESCRIPTION:Put on your Poker face
X-ALT-DESC:FMTTYPE=text/html:<!DOCTYPE HTML PUBLIC "-//W3C//DTD HTML 3.2//E
 N"><HTML>Put on your Poker face</HTML>
CREATED;TZID=Europe/Oslo:20170913T134557
URL;VALUE=URI:https://wiesbaden.armymwr.com/calendar/event
DTSTART;TZID=Europe/Oslo:20170308T180000
DTEND;TZID=Europe/Oslo:20170308T203000
SEQUENCE:0
END:VEVENT
END:VCALENDAR
