BEGIN:VCALENDAR
VERSION:2.0
PRODID:-//Sabre//Sabre VObject 4.5.8//EN
CALSCALE:GREGORIAN
BEGIN:VEVENT
UID:sabre-vobject-c6cd3dc2-f7da-459d-92e7-9ba19815b35a
DTSTAMP:20260423T150444Z
SUMMARY:Picture Framing 101
DESCRIPTION:Make the perfect frame for your image
X-ALT-DESC:FMTTYPE=text/html:<!DOCTYPE HTML PUBLIC "-//W3C//DTD HTML 3.2//E
 N"><HTML>Make the perfect frame for your image</HTML>
CREATED;TZID=Europe/Oslo:20170913T134557
URL;VALUE=URI:https://wiesbaden.armymwr.com/calendar/event
DTSTART;TZID=Europe/Oslo:20170304T110000
DTEND;TZID=Europe/Oslo:20170304T140000
SEQUENCE:0
END:VEVENT
END:VCALENDAR
