BEGIN:VCALENDAR
VERSION:2.0
PRODID:-//Sabre//Sabre VObject 4.5.8//EN
CALSCALE:GREGORIAN
BEGIN:VEVENT
UID:sabre-vobject-df827daa-5cb1-4ec0-8c41-8ebf22452a7e
DTSTAMP:20260423T191428Z
SUMMARY:Learn how to use Morningstar Investment Research Database 2
DESCRIPTION:During Military Saves Week\, learn how to use the Morningstar d
 atabase\, provided by the Army MWR Library to you for free.
X-ALT-DESC:FMTTYPE=text/html:<!DOCTYPE HTML PUBLIC "-//W3C//DTD HTML 3.2//E
 N"><HTML>During Military Saves Week\, learn how to use the Morningstar dat
 abase\, provided by the Army MWR Library to you for free.</HTML>
CREATED;TZID=Europe/Oslo:20170913T134557
URL;VALUE=URI:https://wiesbaden.armymwr.com/calendar/event
DTSTART;TZID=Europe/Oslo:20170227T143000
DTEND;TZID=Europe/Oslo:20170227T153000
SEQUENCE:0
END:VEVENT
END:VCALENDAR
